0.06418363773827979
0.00000000000000000
0.00000000000000000
-0.06418363773827970
-421661.28745355486000000
117228.44178437132000000
