0.00611339220607200
0.00000000000000000
0.00000000000000000
-0.00611339220607200
-127.11611995219930000
60.48759133802716500
